BEGIN:VCALENDAR
VERSION:2.0
PRODID:-//www.okeenehpg.org//NONSGML kigkonsult.se iCalcreator 2.30.10//
CALSCALE:GREGORIAN
METHOD:PUBLISH
UID:9109772f-7274-4eb3-b045-693f7a511f66
X-WR-CALDESC:
X-WR-RELCALID:606d51b8c52e971390d01bdf7f1f2df4
X-WR-TIMEZONE:America/Chicago
BEGIN:VTIMEZONE
TZID:America/Chicago
BEGIN:STANDARD
TZNAME:CST
DTSTART:20251102T020000
TZOFFSETFROM:-0500
TZOFFSETTO:-0600
RDATE:20261101T020000
END:STANDARD
BEGIN:DAYLIGHT
TZNAME:CDT
DTSTART:20260308T020000
TZOFFSETFROM:-0600
TZOFFSETTO:-0500
RDATE:20270314T020000
END:DAYLIGHT
END:VTIMEZONE
BEGIN:VEVENT
UID:d12ad3e8-9657-47d7-87de-21febe28da3a
DTSTAMP:20260424T161111Z
DESCRIPTION:
DTSTART;TZID=America/Chicago:20260410T050000
DTEND;TZID=America/Chicago:20260411T050001
LOCATION:
SUMMARY:Entire building Rented
END:VEVENT
END:VCALENDAR
