BEGIN:VCALENDAR
VERSION:2.0
PRODID:-//www.okeenehpg.org//NONSGML kigkonsult.se iCalcreator 2.30.10//
CALSCALE:GREGORIAN
METHOD:PUBLISH
UID:2ca4eef1-20a5-4aaf-b6d6-d4df568571a9
X-WR-CALDESC:
X-WR-RELCALID:d6a1a6f8fa2e797824c27c66e508f632
X-WR-TIMEZONE:America/Chicago
BEGIN:VTIMEZONE
TZID:America/Chicago
BEGIN:STANDARD
TZNAME:CST
DTSTART:20251102T020000
TZOFFSETFROM:-0500
TZOFFSETTO:-0600
RDATE:20261101T020000
RDATE:20271107T020000
END:STANDARD
BEGIN:DAYLIGHT
TZNAME:CDT
DTSTART:20260308T020000
TZOFFSETFROM:-0600
TZOFFSETTO:-0500
RDATE:20270314T020000
END:DAYLIGHT
END:VTIMEZONE
BEGIN:VEVENT
UID:af56797a-c556-4209-8672-38b473f78614
DTSTAMP:20260424T194028Z
DESCRIPTION:
DTSTART;TZID=America/Chicago:20260620T050000
DTEND;TZID=America/Chicago:20260620T050001
LOCATION:
SUMMARY:Garage Rented
END:VEVENT
END:VCALENDAR
