BEGIN:VCALENDAR
VERSION:2.0
PRODID:-//www.okeenehpg.org//NONSGML kigkonsult.se iCalcreator 2.30.10//
CALSCALE:GREGORIAN
METHOD:PUBLISH
UID:e2ab0234-936f-4031-8bec-6e827dc5bb7a
X-WR-CALDESC:
X-WR-RELCALID:92f4999f7ae5c2359b6d00cdc6ade332
X-WR-TIMEZONE:America/Chicago
BEGIN:VTIMEZONE
TZID:America/Chicago
BEGIN:STANDARD
TZNAME:CST
DTSTART:20251102T020000
TZOFFSETFROM:-0500
TZOFFSETTO:-0600
RDATE:20261101T020000
RDATE:20271107T020000
END:STANDARD
BEGIN:DAYLIGHT
TZNAME:CDT
DTSTART:20260308T020000
TZOFFSETFROM:-0600
TZOFFSETTO:-0500
RDATE:20270314T020000
END:DAYLIGHT
END:VTIMEZONE
BEGIN:VEVENT
UID:31211fb6-1d58-439c-adb2-ff0fca02d724
DTSTAMP:20260424T174805Z
DESCRIPTION:
DTSTART;TZID=America/Chicago:20260515T163000
DTEND;TZID=America/Chicago:20260517T173000
LOCATION:
SUMMARY:Entire building Rented
END:VEVENT
END:VCALENDAR
