BEGIN:VCALENDAR
VERSION:2.0
PRODID:-//www.okeenehpg.org//NONSGML kigkonsult.se iCalcreator 2.30.10//
CALSCALE:GREGORIAN
METHOD:PUBLISH
UID:6a855792-4cec-43f2-b7ba-b225ab858d30
X-WR-CALDESC:
X-WR-RELCALID:10c9643000c706871a59df2f3a618d59
X-WR-TIMEZONE:America/Chicago
BEGIN:VTIMEZONE
TZID:America/Chicago
BEGIN:STANDARD
TZNAME:CST
DTSTART:20251102T020000
TZOFFSETFROM:-0500
TZOFFSETTO:-0600
RDATE:20261101T020000
RDATE:20271107T020000
END:STANDARD
BEGIN:DAYLIGHT
TZNAME:CDT
DTSTART:20260308T020000
TZOFFSETFROM:-0600
TZOFFSETTO:-0500
RDATE:20270314T020000
END:DAYLIGHT
END:VTIMEZONE
BEGIN:VEVENT
UID:47302efc-2654-4f0d-b372-943dbd8c992a
DTSTAMP:20260424T175000Z
DESCRIPTION:
DTSTART;TZID=America/Chicago:20260509T050000
DTEND;TZID=America/Chicago:20260509T050001
LOCATION:
SUMMARY:Garage Rented
END:VEVENT
END:VCALENDAR
