BEGIN:VCALENDAR
VERSION:2.0
PRODID:-//www.okeenehpg.org//NONSGML kigkonsult.se iCalcreator 2.30.10//
CALSCALE:GREGORIAN
METHOD:PUBLISH
UID:59609417-b796-475f-a564-ef23ae456c42
X-WR-CALDESC:
X-WR-RELCALID:6d70f4402cc16a5aeb0c2b831de58700
X-WR-TIMEZONE:America/Chicago
BEGIN:VTIMEZONE
TZID:America/Chicago
BEGIN:STANDARD
TZNAME:CST
DTSTART:20251102T020000
TZOFFSETFROM:-0500
TZOFFSETTO:-0600
RDATE:20261101T020000
END:STANDARD
BEGIN:DAYLIGHT
TZNAME:CDT
DTSTART:20250309T020000
TZOFFSETFROM:-0600
TZOFFSETTO:-0500
RDATE:20260308T020000
RDATE:20270314T020000
END:DAYLIGHT
END:VTIMEZONE
BEGIN:VEVENT
UID:27ad197b-8f34-49aa-874a-4f26c7409e51
DTSTAMP:20260424T212942Z
DESCRIPTION:
DTSTART;TZID=America/Chicago:20260131T050000
DTEND;TZID=America/Chicago:20260131T050001
LOCATION:
SUMMARY:Garage Rented
END:VEVENT
END:VCALENDAR
