BEGIN:VCALENDAR
VERSION:2.0
PRODID:-//www.okeenehpg.org//NONSGML kigkonsult.se iCalcreator 2.30.10//
CALSCALE:GREGORIAN
METHOD:PUBLISH
UID:682700b4-f8be-4560-9318-4cd0ce2dd841
X-WR-CALDESC:
X-WR-RELCALID:51e2df0d0625481d63c1abb8a1d356ba
X-WR-TIMEZONE:America/Chicago
BEGIN:VTIMEZONE
TZID:America/Chicago
BEGIN:STANDARD
TZNAME:CST
DTSTART:20251102T020000
TZOFFSETFROM:-0500
TZOFFSETTO:-0600
RDATE:20261101T020000
END:STANDARD
BEGIN:DAYLIGHT
TZNAME:CDT
DTSTART:20250309T020000
TZOFFSETFROM:-0600
TZOFFSETTO:-0500
RDATE:20260308T020000
RDATE:20270314T020000
END:DAYLIGHT
END:VTIMEZONE
BEGIN:VEVENT
UID:ad2806c0-0ee0-4986-bbbf-e9cc53ce92e7
DTSTAMP:20260424T212805Z
DESCRIPTION:
DTSTART;TZID=America/Chicago:20260119T050000
DTEND;TZID=America/Chicago:20260119T050001
LOCATION:
SUMMARY:Garage Rented
END:VEVENT
END:VCALENDAR
