BEGIN:VCALENDAR
VERSION:2.0
PRODID:-//www.okeenehpg.org//NONSGML kigkonsult.se iCalcreator 2.30.10//
CALSCALE:GREGORIAN
METHOD:PUBLISH
UID:4a39367a-7b22-4c89-951d-d11b9a712188
X-WR-CALDESC:
X-WR-RELCALID:45bb385418eb1ae73bc5dc5d989f9b9f
X-WR-TIMEZONE:America/Chicago
BEGIN:VTIMEZONE
TZID:America/Chicago
BEGIN:STANDARD
TZNAME:CST
DTSTART:20251102T020000
TZOFFSETFROM:-0500
TZOFFSETTO:-0600
RDATE:20261101T020000
END:STANDARD
BEGIN:DAYLIGHT
TZNAME:CDT
DTSTART:20250309T020000
TZOFFSETFROM:-0600
TZOFFSETTO:-0500
RDATE:20260308T020000
RDATE:20270314T020000
END:DAYLIGHT
END:VTIMEZONE
BEGIN:VEVENT
UID:368a17d9-fedf-432d-b7d9-b3c435ad5a98
DTSTAMP:20260424T212838Z
DESCRIPTION:
DTSTART;TZID=America/Chicago:20260110T050000
DTEND;TZID=America/Chicago:20260110T050001
LOCATION:
SUMMARY:Garage Rented
END:VEVENT
END:VCALENDAR
