BEGIN:VCALENDAR
VERSION:2.0
PRODID:-//www.okeenehpg.org//NONSGML kigkonsult.se iCalcreator 2.30.10//
CALSCALE:GREGORIAN
METHOD:PUBLISH
UID:46f556ac-bf7d-43e0-9026-e7ee364906de
X-WR-CALDESC:
X-WR-RELCALID:3bff3e698a1249b7803e69a7080156e7
X-WR-TIMEZONE:America/Chicago
BEGIN:VTIMEZONE
TZID:America/Chicago
BEGIN:STANDARD
TZNAME:CST
DTSTART:20251102T020000
TZOFFSETFROM:-0500
TZOFFSETTO:-0600
RDATE:20261101T020000
END:STANDARD
BEGIN:DAYLIGHT
TZNAME:CDT
DTSTART:20250309T020000
TZOFFSETFROM:-0600
TZOFFSETTO:-0500
RDATE:20260308T020000
RDATE:20270314T020000
END:DAYLIGHT
END:VTIMEZONE
BEGIN:VEVENT
UID:defca593-762d-43e5-8b80-2412bed0fd15
DTSTAMP:20260424T224558Z
DESCRIPTION:
DTSTART;TZID=America/Chicago:20251217T050000
DTEND;TZID=America/Chicago:20251217T050001
LOCATION:
SUMMARY:Garage Rented
END:VEVENT
END:VCALENDAR
