BEGIN:VCALENDAR
VERSION:2.0
PRODID:-//www.okeenehpg.org//NONSGML kigkonsult.se iCalcreator 2.30.10//
CALSCALE:GREGORIAN
METHOD:PUBLISH
UID:e0da827e-be09-4efa-96dd-ad456d685edb
X-WR-CALDESC:
X-WR-RELCALID:4e26c216b5318b640aa284f5bdfd7a33
X-WR-TIMEZONE:America/Chicago
BEGIN:VTIMEZONE
TZID:America/Chicago
BEGIN:STANDARD
TZNAME:CST
DTSTART:20251102T020000
TZOFFSETFROM:-0500
TZOFFSETTO:-0600
RDATE:20261101T020000
END:STANDARD
BEGIN:DAYLIGHT
TZNAME:CDT
DTSTART:20250309T020000
TZOFFSETFROM:-0600
TZOFFSETTO:-0500
RDATE:20260308T020000
RDATE:20270314T020000
END:DAYLIGHT
END:VTIMEZONE
BEGIN:VEVENT
UID:6ae9e2d9-f750-49e4-b148-3b62183733a2
DTSTAMP:20260424T224642Z
DESCRIPTION:
DTSTART;TZID=America/Chicago:20251213T050000
DTEND;TZID=America/Chicago:20251213T050001
LOCATION:
SUMMARY:Garage Rented
END:VEVENT
END:VCALENDAR
