BEGIN:VCALENDAR
VERSION:2.0
PRODID:-//www.okeenehpg.org//NONSGML kigkonsult.se iCalcreator 2.30.10//
CALSCALE:GREGORIAN
METHOD:PUBLISH
UID:a4d43595-ee45-49ff-8a99-6c4905181dcd
X-WR-CALDESC:
X-WR-RELCALID:80d91b866012db734d6d4bff63ae12c8
X-WR-TIMEZONE:America/Chicago
BEGIN:VTIMEZONE
TZID:America/Chicago
BEGIN:STANDARD
TZNAME:CST
DTSTART:20251102T020000
TZOFFSETFROM:-0500
TZOFFSETTO:-0600
RDATE:20261101T020000
END:STANDARD
BEGIN:DAYLIGHT
TZNAME:CDT
DTSTART:20250309T020000
TZOFFSETFROM:-0600
TZOFFSETTO:-0500
RDATE:20260308T020000
RDATE:20270314T020000
END:DAYLIGHT
END:VTIMEZONE
BEGIN:VEVENT
UID:f3f5ff9a-9f59-44b1-a084-7e8b0e364b04
DTSTAMP:20260425T001306Z
DESCRIPTION:
DTSTART;TZID=America/Chicago:20251129T173000
DTEND;TZID=America/Chicago:20251129T183000
LOCATION:
SUMMARY:Garage Rented
END:VEVENT
END:VCALENDAR
