BEGIN:VCALENDAR
VERSION:2.0
PRODID:-//www.okeenehpg.org//NONSGML kigkonsult.se iCalcreator 2.30.10//
CALSCALE:GREGORIAN
METHOD:PUBLISH
UID:7344e0e1-2248-4ee4-a188-b979e767fa27
X-WR-CALDESC:
X-WR-RELCALID:0d55b4df273df42b089056d10d2be382
X-WR-TIMEZONE:America/Chicago
BEGIN:VTIMEZONE
TZID:America/Chicago
BEGIN:STANDARD
TZNAME:CST
DTSTART:20251102T020000
TZOFFSETFROM:-0500
TZOFFSETTO:-0600
RDATE:20261101T020000
END:STANDARD
BEGIN:DAYLIGHT
TZNAME:CDT
DTSTART:20250309T020000
TZOFFSETFROM:-0600
TZOFFSETTO:-0500
RDATE:20260308T020000
RDATE:20270314T020000
END:DAYLIGHT
END:VTIMEZONE
BEGIN:VEVENT
UID:f0468da2-3673-4825-a0fc-83b904ff05c4
DTSTAMP:20260425T002024Z
DESCRIPTION:
DTSTART;TZID=America/Chicago:20251126T050000
DTEND;TZID=America/Chicago:20251126T050001
LOCATION:
SUMMARY:Garage Rented
END:VEVENT
END:VCALENDAR
