BEGIN:VCALENDAR
VERSION:2.0
PRODID:-//www.okeenehpg.org//NONSGML kigkonsult.se iCalcreator 2.30.10//
CALSCALE:GREGORIAN
METHOD:PUBLISH
UID:157231a3-5159-4728-b09a-492c3ccbb176
X-WR-CALDESC:
X-WR-RELCALID:72c4ef6c0633787d9c976abbb8a8d291
X-WR-TIMEZONE:America/Chicago
BEGIN:VTIMEZONE
TZID:America/Chicago
BEGIN:STANDARD
TZNAME:CST
DTSTART:20251102T020000
TZOFFSETFROM:-0500
TZOFFSETTO:-0600
RDATE:20261101T020000
END:STANDARD
BEGIN:DAYLIGHT
TZNAME:CDT
DTSTART:20250309T020000
TZOFFSETFROM:-0600
TZOFFSETTO:-0500
RDATE:20260308T020000
RDATE:20270314T020000
END:DAYLIGHT
END:VTIMEZONE
BEGIN:VEVENT
UID:679d69ec-6cf3-45d4-a54d-0679a765f2e9
DTSTAMP:20260425T002227Z
DESCRIPTION:
DTSTART;TZID=America/Chicago:20251105T050000
DTEND;TZID=America/Chicago:20251105T050001
LOCATION:
SUMMARY:Garage Rented
END:VEVENT
END:VCALENDAR
