BEGIN:VCALENDAR
VERSION:2.0
PRODID:-//www.okeenehpg.org//NONSGML kigkonsult.se iCalcreator 2.30.10//
CALSCALE:GREGORIAN
METHOD:PUBLISH
UID:8945edff-1431-4acb-8953-c06d687b225e
X-WR-CALDESC:
X-WR-RELCALID:fb6e143dc8674eb4c54b734c4ce6c02f
X-WR-TIMEZONE:America/Chicago
BEGIN:VTIMEZONE
TZID:America/Chicago
BEGIN:STANDARD
TZNAME:CST
DTSTART:20241103T020000
TZOFFSETFROM:-0500
TZOFFSETTO:-0600
RDATE:20251102T020000
RDATE:20261101T020000
END:STANDARD
BEGIN:DAYLIGHT
TZNAME:CDT
DTSTART:20250309T020000
TZOFFSETFROM:-0600
TZOFFSETTO:-0500
RDATE:20260308T020000
RDATE:20270314T020000
END:DAYLIGHT
END:VTIMEZONE
BEGIN:VEVENT
UID:e903c68d-8dec-49ee-883a-81344624e06e
DTSTAMP:20260425T014712Z
DESCRIPTION:
DTSTART;TZID=America/Chicago:20251028T050000
DTEND;TZID=America/Chicago:20251028T050001
LOCATION:
SUMMARY:Entire building Rented
END:VEVENT
END:VCALENDAR
