BEGIN:VCALENDAR
VERSION:2.0
PRODID:-//www.okeenehpg.org//NONSGML kigkonsult.se iCalcreator 2.30.10//
CALSCALE:GREGORIAN
METHOD:PUBLISH
UID:a0d3f887-b116-4172-8126-d0358a639423
X-WR-CALDESC:
X-WR-RELCALID:30275cabdc9afbd630739117604ed25d
X-WR-TIMEZONE:America/Chicago
BEGIN:VTIMEZONE
TZID:America/Chicago
BEGIN:STANDARD
TZNAME:CST
DTSTART:20241103T020000
TZOFFSETFROM:-0500
TZOFFSETTO:-0600
RDATE:20251102T020000
RDATE:20261101T020000
END:STANDARD
BEGIN:DAYLIGHT
TZNAME:CDT
DTSTART:20250309T020000
TZOFFSETFROM:-0600
TZOFFSETTO:-0500
RDATE:20260308T020000
RDATE:20270314T020000
END:DAYLIGHT
END:VTIMEZONE
BEGIN:VEVENT
UID:ef651a46-9b1f-46d1-8818-c10f49fb2215
DTSTAMP:20260425T014738Z
DESCRIPTION:
DTSTART;TZID=America/Chicago:20251012T050000
DTEND;TZID=America/Chicago:20251012T050001
LOCATION:
SUMMARY:Garage Rented
END:VEVENT
END:VCALENDAR
