BEGIN:VCALENDAR
VERSION:2.0
PRODID:-//www.okeenehpg.org//NONSGML kigkonsult.se iCalcreator 2.30.10//
CALSCALE:GREGORIAN
METHOD:PUBLISH
UID:b049258b-18dc-450f-a6ab-cc4c0e3f28ef
X-WR-CALDESC:
X-WR-RELCALID:4ea7a32d04802aee2154f70e985d7712
X-WR-TIMEZONE:America/Chicago
BEGIN:VTIMEZONE
TZID:America/Chicago
BEGIN:STANDARD
TZNAME:CST
DTSTART:20241103T020000
TZOFFSETFROM:-0500
TZOFFSETTO:-0600
RDATE:20251102T020000
RDATE:20261101T020000
END:STANDARD
BEGIN:DAYLIGHT
TZNAME:CDT
DTSTART:20250309T020000
TZOFFSETFROM:-0600
TZOFFSETTO:-0500
RDATE:20260308T020000
RDATE:20270314T020000
END:DAYLIGHT
END:VTIMEZONE
BEGIN:VEVENT
UID:d943e105-279b-44f3-8e31-611cdb511271
DTSTAMP:20260425T032904Z
DESCRIPTION:
DTSTART;TZID=America/Chicago:20250927T050000
DTEND;TZID=America/Chicago:20250927T050001
LOCATION:
SUMMARY:Okeene Germanfest
END:VEVENT
END:VCALENDAR
