BEGIN:VCALENDAR
VERSION:2.0
PRODID:-//www.okeenehpg.org//NONSGML kigkonsult.se iCalcreator 2.30.10//
CALSCALE:GREGORIAN
METHOD:PUBLISH
UID:1150a701-a467-4764-8412-8920be6f5412
X-WR-CALDESC:
X-WR-RELCALID:afb21c3d1ad8b0e92e73e8316d73788f
X-WR-TIMEZONE:America/Chicago
BEGIN:VTIMEZONE
TZID:America/Chicago
BEGIN:STANDARD
TZNAME:CST
DTSTART:20241103T020000
TZOFFSETFROM:-0500
TZOFFSETTO:-0600
RDATE:20251102T020000
RDATE:20261101T020000
END:STANDARD
BEGIN:DAYLIGHT
TZNAME:CDT
DTSTART:20250309T020000
TZOFFSETFROM:-0600
TZOFFSETTO:-0500
RDATE:20260308T020000
RDATE:20270314T020000
END:DAYLIGHT
END:VTIMEZONE
BEGIN:VEVENT
UID:90734558-9be1-4e66-9668-a6254ff35d88
DTSTAMP:20260425T031241Z
DESCRIPTION:
DTSTART;TZID=America/Chicago:20250913T050000
DTEND;TZID=America/Chicago:20250930T050001
LOCATION:
SUMMARY:Building Rented-entire
END:VEVENT
END:VCALENDAR
