BEGIN:VCALENDAR
VERSION:2.0
PRODID:-//www.okeenehpg.org//NONSGML kigkonsult.se iCalcreator 2.30.10//
CALSCALE:GREGORIAN
METHOD:PUBLISH
UID:37617e00-776d-4a24-8c8b-43029176b3f4
X-WR-CALDESC:
X-WR-RELCALID:7f270e5c777decd9300c8de726aa8bd6
X-WR-TIMEZONE:America/Chicago
BEGIN:VTIMEZONE
TZID:America/Chicago
BEGIN:STANDARD
TZNAME:CST
DTSTART:20241103T020000
TZOFFSETFROM:-0500
TZOFFSETTO:-0600
RDATE:20251102T020000
RDATE:20261101T020000
END:STANDARD
BEGIN:DAYLIGHT
TZNAME:CDT
DTSTART:20250309T020000
TZOFFSETFROM:-0600
TZOFFSETTO:-0500
RDATE:20260308T020000
RDATE:20270314T020000
END:DAYLIGHT
END:VTIMEZONE
BEGIN:VEVENT
UID:c2b460c6-88af-4b8e-855f-55d9a87c8245
DTSTAMP:20260425T032244Z
DESCRIPTION:
DTSTART;TZID=America/Chicago:20250912T050000
DTEND;TZID=America/Chicago:20250912T050001
LOCATION:
SUMMARY:Garage Rented
END:VEVENT
END:VCALENDAR
