BEGIN:VCALENDAR
VERSION:2.0
PRODID:-//www.okeenehpg.org//NONSGML kigkonsult.se iCalcreator 2.30.10//
CALSCALE:GREGORIAN
METHOD:PUBLISH
UID:df3d8bcf-cd91-460f-aa4f-6b6a0c209c5b
X-WR-CALDESC:
X-WR-RELCALID:e1314cfd5ad73f7984776b4972a57f1a
X-WR-TIMEZONE:America/Chicago
BEGIN:VTIMEZONE
TZID:America/Chicago
BEGIN:STANDARD
TZNAME:CST
DTSTART:20241103T020000
TZOFFSETFROM:-0500
TZOFFSETTO:-0600
RDATE:20251102T020000
END:STANDARD
BEGIN:DAYLIGHT
TZNAME:CDT
DTSTART:20250309T020000
TZOFFSETFROM:-0600
TZOFFSETTO:-0500
RDATE:20260308T020000
END:DAYLIGHT
END:VTIMEZONE
BEGIN:VEVENT
UID:33116012-0bdb-4af8-a193-e2a7d5f8b04e
DTSTAMP:20260425T115420Z
DESCRIPTION:
DTSTART;TZID=America/Chicago:20250426T050000
DTEND;TZID=America/Chicago:20250426T050001
LOCATION:
SUMMARY:Building Rented-entire Amanda
END:VEVENT
END:VCALENDAR
