BEGIN:VCALENDAR
VERSION:2.0
PRODID:-//www.okeenehpg.org//NONSGML kigkonsult.se iCalcreator 2.30.10//
CALSCALE:GREGORIAN
METHOD:PUBLISH
UID:cf2df03f-e11f-4ef3-88d2-32715b456794
X-WR-CALDESC:
X-WR-RELCALID:2c3abdd794abbadddf0b1a691d6a5602
X-WR-TIMEZONE:America/Chicago
BEGIN:VTIMEZONE
TZID:America/Chicago
BEGIN:STANDARD
TZNAME:CST
DTSTART:20241103T020000
TZOFFSETFROM:-0500
TZOFFSETTO:-0600
RDATE:20251102T020000
END:STANDARD
BEGIN:DAYLIGHT
TZNAME:CDT
DTSTART:20250309T020000
TZOFFSETFROM:-0600
TZOFFSETTO:-0500
RDATE:20260308T020000
END:DAYLIGHT
END:VTIMEZONE
BEGIN:VEVENT
UID:66cc3c22-677f-495a-ac96-38923293f1f1
DTSTAMP:20260425T115055Z
DESCRIPTION:
DTSTART;TZID=America/Chicago:20250402T050000
DTEND;TZID=America/Chicago:20250406T050001
LOCATION:
SUMMARY:Prom
END:VEVENT
END:VCALENDAR
