BEGIN:VCALENDAR
VERSION:2.0
PRODID:-//www.okeenehpg.org//NONSGML kigkonsult.se iCalcreator 2.30.10//
CALSCALE:GREGORIAN
METHOD:PUBLISH
UID:539930e6-cb4a-4808-b4e9-0d8d9627565c
X-WR-CALDESC:
X-WR-RELCALID:f8c3dd4ee7324b472f6e3d9b019bbf3f
X-WR-TIMEZONE:America/Chicago
BEGIN:VTIMEZONE
TZID:America/Chicago
BEGIN:STANDARD
TZNAME:CST
DTSTART:20241103T020000
TZOFFSETFROM:-0500
TZOFFSETTO:-0600
RDATE:20251102T020000
END:STANDARD
BEGIN:DAYLIGHT
TZNAME:CDT
DTSTART:20250309T020000
TZOFFSETFROM:-0600
TZOFFSETTO:-0500
RDATE:20260308T020000
END:DAYLIGHT
END:VTIMEZONE
BEGIN:VEVENT
UID:afe3ba67-9c29-4821-a922-282bf33c746c
DTSTAMP:20260425T133255Z
DESCRIPTION:
DTSTART;TZID=America/Chicago:20250330T050000
DTEND;TZID=America/Chicago:20250330T050001
LOCATION:
SUMMARY:Garage Rented
END:VEVENT
END:VCALENDAR
