BEGIN:VCALENDAR
VERSION:2.0
PRODID:-//www.okeenehpg.org//NONSGML kigkonsult.se iCalcreator 2.30.10//
CALSCALE:GREGORIAN
METHOD:PUBLISH
UID:872fea08-5f7b-490a-b651-154b83960c3b
X-WR-CALDESC:
X-WR-RELCALID:ae5f32eac5ac9969f05c1f28461b4c29
X-WR-TIMEZONE:America/Chicago
BEGIN:VTIMEZONE
TZID:America/Chicago
BEGIN:STANDARD
TZNAME:CST
DTSTART:20241103T020000
TZOFFSETFROM:-0500
TZOFFSETTO:-0600
RDATE:20251102T020000
END:STANDARD
BEGIN:DAYLIGHT
TZNAME:CDT
DTSTART:20250309T020000
TZOFFSETFROM:-0600
TZOFFSETTO:-0500
RDATE:20260308T020000
END:DAYLIGHT
END:VTIMEZONE
BEGIN:VEVENT
UID:cc0f4bb1-a057-42d6-8936-a0210214b426
DTSTAMP:20260425T132959Z
DESCRIPTION:
DTSTART;TZID=America/Chicago:20250329T180000
DTEND;TZID=America/Chicago:20250329T223000
LOCATION:The Dusbabek Building\, 101 N Main St\, Okeene\, OK 73763-0162 US
SUMMARY:Piano Bar
END:VEVENT
END:VCALENDAR
