BEGIN:VCALENDAR
VERSION:2.0
PRODID:-//www.okeenehpg.org//NONSGML kigkonsult.se iCalcreator 2.30.10//
CALSCALE:GREGORIAN
METHOD:PUBLISH
UID:ac825521-eb4f-4f35-a969-6bb1c12206c7
X-WR-CALDESC:
X-WR-RELCALID:15b61630d2866a309eb191beff3a15e8
X-WR-TIMEZONE:America/Chicago
BEGIN:VTIMEZONE
TZID:America/Chicago
BEGIN:STANDARD
TZNAME:CST
DTSTART:20241103T020000
TZOFFSETFROM:-0500
TZOFFSETTO:-0600
RDATE:20251102T020000
END:STANDARD
BEGIN:DAYLIGHT
TZNAME:CDT
DTSTART:20250309T020000
TZOFFSETFROM:-0600
TZOFFSETTO:-0500
RDATE:20260308T020000
END:DAYLIGHT
END:VTIMEZONE
BEGIN:VEVENT
UID:9ede3d65-d70b-464a-9463-ff2b99c5b9d4
DTSTAMP:20260425T133102Z
DESCRIPTION:
DTSTART;TZID=America/Chicago:20250329T180000
DTEND;TZID=America/Chicago:20250329T223000
LOCATION:The Dusbabek Building\, 101 N Main St- The Corner of Hwy 51 & 58 \
 , Okeene\, OK 73763-0162 US
SUMMARY:Killer Dueling Piano Bar
END:VEVENT
END:VCALENDAR
