BEGIN:VCALENDAR
VERSION:2.0
PRODID:-//www.okeenehpg.org//NONSGML kigkonsult.se iCalcreator 2.30.10//
CALSCALE:GREGORIAN
METHOD:PUBLISH
UID:f859814e-9dd9-4f82-bdb8-a4831b3c50fd
X-WR-CALDESC:
X-WR-RELCALID:2574cc326647286bfeae1cdd0be58c4e
X-WR-TIMEZONE:America/Chicago
BEGIN:VTIMEZONE
TZID:America/Chicago
BEGIN:STANDARD
TZNAME:CST
DTSTART:20241103T020000
TZOFFSETFROM:-0500
TZOFFSETTO:-0600
RDATE:20251102T020000
END:STANDARD
BEGIN:DAYLIGHT
TZNAME:CDT
DTSTART:20250309T020000
TZOFFSETFROM:-0600
TZOFFSETTO:-0500
RDATE:20260308T020000
END:DAYLIGHT
END:VTIMEZONE
BEGIN:VEVENT
UID:f335f486-41a8-4c04-a2b8-07bb51906bdb
DTSTAMP:20260425T133511Z
DESCRIPTION:
DTSTART;TZID=America/Chicago:20250328T050000
DTEND;TZID=America/Chicago:20250328T050001
LOCATION:
SUMMARY:Building Rented-Piano Bar Prep.
END:VEVENT
END:VCALENDAR
