BEGIN:VCALENDAR
VERSION:2.0
PRODID:-//www.okeenehpg.org//NONSGML kigkonsult.se iCalcreator 2.30.10//
CALSCALE:GREGORIAN
METHOD:PUBLISH
UID:ea52cdf3-a355-41bf-8544-5e686e06cf66
X-WR-CALDESC:
X-WR-RELCALID:e57da931151914f9ae542ac32065159d
X-WR-TIMEZONE:America/Chicago
BEGIN:VTIMEZONE
TZID:America/Chicago
BEGIN:STANDARD
TZNAME:CST
DTSTART:20241103T020000
TZOFFSETFROM:-0500
TZOFFSETTO:-0600
RDATE:20251102T020000
END:STANDARD
BEGIN:DAYLIGHT
TZNAME:CDT
DTSTART:20240310T020000
TZOFFSETFROM:-0600
TZOFFSETTO:-0500
RDATE:20250309T020000
RDATE:20260308T020000
END:DAYLIGHT
END:VTIMEZONE
BEGIN:VEVENT
UID:2a3b0f78-d131-4e83-a6b8-80619f3ca96d
DTSTAMP:20260425T153006Z
DESCRIPTION:
DTSTART;TZID=America/Chicago:20250217T050000
DTEND;TZID=America/Chicago:20250223T050001
LOCATION:
SUMMARY:Building Rented-entire
END:VEVENT
END:VCALENDAR
