BEGIN:VCALENDAR
VERSION:2.0
PRODID:-//www.okeenehpg.org//NONSGML kigkonsult.se iCalcreator 2.30.10//
CALSCALE:GREGORIAN
METHOD:PUBLISH
UID:2fd3f060-7541-42c8-a18e-1a0c6e9e7336
X-WR-CALDESC:
X-WR-RELCALID:5a92ba8026609d71c8e99d5c7d2f32b5
X-WR-TIMEZONE:America/Chicago
BEGIN:VTIMEZONE
TZID:America/Chicago
BEGIN:STANDARD
TZNAME:CST
DTSTART:20241103T020000
TZOFFSETFROM:-0500
TZOFFSETTO:-0600
RDATE:20251102T020000
END:STANDARD
BEGIN:DAYLIGHT
TZNAME:CDT
DTSTART:20240310T020000
TZOFFSETFROM:-0600
TZOFFSETTO:-0500
RDATE:20250309T020000
RDATE:20260308T020000
END:DAYLIGHT
END:VTIMEZONE
BEGIN:VEVENT
UID:2e042fe1-cf38-4d99-b9ee-79842897bf8f
DTSTAMP:20260425T152541Z
DESCRIPTION:
DTSTART;TZID=America/Chicago:20250208T050000
DTEND;TZID=America/Chicago:20250208T050001
LOCATION:
SUMMARY:Garage Rented
END:VEVENT
END:VCALENDAR
