BEGIN:VCALENDAR
VERSION:2.0
PRODID:-//www.okeenehpg.org//NONSGML kigkonsult.se iCalcreator 2.30.10//
CALSCALE:GREGORIAN
METHOD:PUBLISH
UID:86d45033-197b-421d-8fb5-391508d6a8b4
X-WR-CALDESC:
X-WR-RELCALID:3ffd0ef288549f82f7ca898db00c0088
X-WR-TIMEZONE:America/Chicago
BEGIN:VTIMEZONE
TZID:America/Chicago
BEGIN:STANDARD
TZNAME:CST
DTSTART:20241103T020000
TZOFFSETFROM:-0500
TZOFFSETTO:-0600
RDATE:20251102T020000
END:STANDARD
BEGIN:DAYLIGHT
TZNAME:CDT
DTSTART:20240310T020000
TZOFFSETFROM:-0600
TZOFFSETTO:-0500
RDATE:20250309T020000
RDATE:20260308T020000
END:DAYLIGHT
END:VTIMEZONE
BEGIN:VEVENT
UID:83cdad89-ce3b-4fb6-a5fb-ac642203dbfa
DTSTAMP:20260425T165719Z
DESCRIPTION:
DTSTART;TZID=America/Chicago:20250126T050000
DTEND;TZID=America/Chicago:20250126T050001
LOCATION:
SUMMARY:Garage Rented
END:VEVENT
END:VCALENDAR
