BEGIN:VCALENDAR
VERSION:2.0
PRODID:-//www.okeenehpg.org//NONSGML kigkonsult.se iCalcreator 2.30.10//
CALSCALE:GREGORIAN
METHOD:PUBLISH
UID:bb6931f0-c275-40b3-b877-9a6ecd439d51
X-WR-CALDESC:
X-WR-RELCALID:860ddd702c0fa5cb749cc5b591005359
X-WR-TIMEZONE:America/Chicago
BEGIN:VTIMEZONE
TZID:America/Chicago
BEGIN:STANDARD
TZNAME:CST
DTSTART:20241103T020000
TZOFFSETFROM:-0500
TZOFFSETTO:-0600
RDATE:20251102T020000
END:STANDARD
BEGIN:DAYLIGHT
TZNAME:CDT
DTSTART:20240310T020000
TZOFFSETFROM:-0600
TZOFFSETTO:-0500
RDATE:20250309T020000
RDATE:20260308T020000
END:DAYLIGHT
END:VTIMEZONE
BEGIN:VEVENT
UID:7ab3e4aa-72ea-443c-a506-5bd6210e2ff7
DTSTAMP:20260425T165449Z
DESCRIPTION:
DTSTART;TZID=America/Chicago:20250112T050000
DTEND;TZID=America/Chicago:20250112T050001
LOCATION:
SUMMARY:Garage Rented
END:VEVENT
END:VCALENDAR
