BEGIN:VCALENDAR
VERSION:2.0
PRODID:-//www.okeenehpg.org//NONSGML kigkonsult.se iCalcreator 2.30.10//
CALSCALE:GREGORIAN
METHOD:PUBLISH
UID:28def81f-49a0-498c-ac61-d4ef1288e91f
X-WR-CALDESC:
X-WR-RELCALID:3e9714bf24424d10e414797d03a70301
X-WR-TIMEZONE:America/Chicago
BEGIN:VTIMEZONE
TZID:America/Chicago
BEGIN:STANDARD
TZNAME:CST
DTSTART:20241103T020000
TZOFFSETFROM:-0500
TZOFFSETTO:-0600
RDATE:20251102T020000
END:STANDARD
BEGIN:DAYLIGHT
TZNAME:CDT
DTSTART:20240310T020000
TZOFFSETFROM:-0600
TZOFFSETTO:-0500
RDATE:20250309T020000
RDATE:20260308T020000
END:DAYLIGHT
END:VTIMEZONE
BEGIN:VEVENT
UID:0d29358a-2233-4e21-a936-e90ce76d092c
DTSTAMP:20260425T184732Z
DESCRIPTION:
DTSTART;TZID=America/Chicago:20241222T050000
DTEND;TZID=America/Chicago:20241222T050001
LOCATION:
SUMMARY:Garage Rented
END:VEVENT
END:VCALENDAR
