BEGIN:VCALENDAR
VERSION:2.0
PRODID:-//www.okeenehpg.org//NONSGML kigkonsult.se iCalcreator 2.30.10//
CALSCALE:GREGORIAN
METHOD:PUBLISH
UID:05d4fa6e-45b8-45bf-926a-cbe3c7f88704
X-WR-CALDESC:
X-WR-RELCALID:267b51eb1e00ce0cbd719049f9540d17
X-WR-TIMEZONE:America/Chicago
BEGIN:VTIMEZONE
TZID:America/Chicago
BEGIN:STANDARD
TZNAME:CST
DTSTART:20241103T020000
TZOFFSETFROM:-0500
TZOFFSETTO:-0600
RDATE:20251102T020000
END:STANDARD
BEGIN:DAYLIGHT
TZNAME:CDT
DTSTART:20240310T020000
TZOFFSETFROM:-0600
TZOFFSETTO:-0500
RDATE:20250309T020000
RDATE:20260308T020000
END:DAYLIGHT
END:VTIMEZONE
BEGIN:VEVENT
UID:e28ae478-7663-457b-b9e2-d0ee65ed348e
DTSTAMP:20260425T185224Z
DESCRIPTION:
DTSTART;TZID=America/Chicago:20241214T050000
DTEND;TZID=America/Chicago:20241214T050001
LOCATION:P O Box 162\, Okeene\, OK 73763-0162 US
SUMMARY:Building Rented
END:VEVENT
END:VCALENDAR
