BEGIN:VCALENDAR
VERSION:2.0
PRODID:-//www.okeenehpg.org//NONSGML kigkonsult.se iCalcreator 2.30.10//
CALSCALE:GREGORIAN
METHOD:PUBLISH
UID:9951bad0-010c-49a0-a9cd-f5b65db3bdb2
X-WR-CALDESC:
X-WR-RELCALID:4962a828ec9c2a141b556b2860b3d4d0
X-WR-TIMEZONE:America/Chicago
BEGIN:VTIMEZONE
TZID:America/Chicago
BEGIN:STANDARD
TZNAME:CST
DTSTART:20241103T020000
TZOFFSETFROM:-0500
TZOFFSETTO:-0600
RDATE:20251102T020000
END:STANDARD
BEGIN:DAYLIGHT
TZNAME:CDT
DTSTART:20240310T020000
TZOFFSETFROM:-0600
TZOFFSETTO:-0500
RDATE:20250309T020000
RDATE:20260308T020000
END:DAYLIGHT
END:VTIMEZONE
BEGIN:VEVENT
UID:fd7895ba-a4ac-4734-aa5e-12342e2e3d62
DTSTAMP:20260425T184732Z
DESCRIPTION:
DTSTART;TZID=America/Chicago:20241213T120000
DTEND;TZID=America/Chicago:20241213T130000
LOCATION:
SUMMARY:Garage Rented
END:VEVENT
END:VCALENDAR
