BEGIN:VCALENDAR
VERSION:2.0
PRODID:-//www.okeenehpg.org//NONSGML kigkonsult.se iCalcreator 2.30.10//
CALSCALE:GREGORIAN
METHOD:PUBLISH
UID:d857d21f-838a-453b-b56e-6cad77a67e05
X-WR-CALDESC:
X-WR-RELCALID:d0296449e175c61d380d6010a407f8ad
X-WR-TIMEZONE:America/Chicago
BEGIN:VTIMEZONE
TZID:America/Chicago
BEGIN:STANDARD
TZNAME:CST
DTSTART:20241103T020000
TZOFFSETFROM:-0500
TZOFFSETTO:-0600
RDATE:20251102T020000
END:STANDARD
BEGIN:DAYLIGHT
TZNAME:CDT
DTSTART:20240310T020000
TZOFFSETFROM:-0600
TZOFFSETTO:-0500
RDATE:20250309T020000
RDATE:20260308T020000
END:DAYLIGHT
END:VTIMEZONE
BEGIN:VEVENT
UID:ab768ac2-f297-4d48-8b32-5e015159aca4
DTSTAMP:20260425T184431Z
DESCRIPTION:
DTSTART;TZID=America/Chicago:20241206T050000
DTEND;TZID=America/Chicago:20241207T050001
LOCATION:
SUMMARY:Entire building Rented
END:VEVENT
END:VCALENDAR
