BEGIN:VCALENDAR
VERSION:2.0
PRODID:-//www.okeenehpg.org//NONSGML kigkonsult.se iCalcreator 2.30.10//
CALSCALE:GREGORIAN
METHOD:PUBLISH
UID:3c2fcf90-6c43-4c30-a8d8-25377248c0c4
X-WR-CALDESC:
X-WR-RELCALID:42b1dfbaa59aa2cc14aead6bd76ab9e5
X-WR-TIMEZONE:America/Chicago
BEGIN:VTIMEZONE
TZID:America/Chicago
BEGIN:STANDARD
TZNAME:CST
DTSTART:20241103T020000
TZOFFSETFROM:-0500
TZOFFSETTO:-0600
RDATE:20251102T020000
END:STANDARD
BEGIN:DAYLIGHT
TZNAME:CDT
DTSTART:20240310T020000
TZOFFSETFROM:-0600
TZOFFSETTO:-0500
RDATE:20250309T020000
RDATE:20260308T020000
END:DAYLIGHT
END:VTIMEZONE
BEGIN:VEVENT
UID:65d0a9a5-0d0e-4fdb-a734-bd749caf7989
DTSTAMP:20260425T203925Z
DESCRIPTION:
DTSTART;TZID=America/Chicago:20241128T050000
DTEND;TZID=America/Chicago:20241128T050001
LOCATION:
SUMMARY:Garage Rented
END:VEVENT
END:VCALENDAR
