BEGIN:VCALENDAR
VERSION:2.0
PRODID:-//www.okeenehpg.org//NONSGML kigkonsult.se iCalcreator 2.30.10//
CALSCALE:GREGORIAN
METHOD:PUBLISH
UID:6dd932d9-f30a-41e7-802d-f26b779c5bb5
X-WR-CALDESC:
X-WR-RELCALID:a1289ee3cdbfd7f823221d7e2bfbc794
X-WR-TIMEZONE:America/Chicago
BEGIN:VTIMEZONE
TZID:America/Chicago
BEGIN:STANDARD
TZNAME:CST
DTSTART:20241103T020000
TZOFFSETFROM:-0500
TZOFFSETTO:-0600
RDATE:20251102T020000
END:STANDARD
BEGIN:DAYLIGHT
TZNAME:CDT
DTSTART:20240310T020000
TZOFFSETFROM:-0600
TZOFFSETTO:-0500
RDATE:20250309T020000
RDATE:20260308T020000
END:DAYLIGHT
END:VTIMEZONE
BEGIN:VEVENT
UID:51d4287a-6ffe-4739-942b-dacda054f53f
DTSTAMP:20260425T202844Z
DESCRIPTION:
DTSTART;TZID=America/Chicago:20241116T050000
DTEND;TZID=America/Chicago:20241116T050001
LOCATION:
SUMMARY:Garage Rented
END:VEVENT
END:VCALENDAR
