BEGIN:VCALENDAR
VERSION:2.0
PRODID:-//www.okeenehpg.org//NONSGML kigkonsult.se iCalcreator 2.30.10//
CALSCALE:GREGORIAN
METHOD:PUBLISH
UID:d1487905-31ca-4848-8104-4a4d1958a5c7
X-WR-CALDESC:
X-WR-RELCALID:04a01bca9fc97b453a7d0857ee1ae7ac
X-WR-TIMEZONE:America/Chicago
BEGIN:VTIMEZONE
TZID:America/Chicago
BEGIN:STANDARD
TZNAME:CST
DTSTART:20231105T020000
TZOFFSETFROM:-0500
TZOFFSETTO:-0600
RDATE:20241103T020000
RDATE:20251102T020000
END:STANDARD
BEGIN:DAYLIGHT
TZNAME:CDT
DTSTART:20240310T020000
TZOFFSETFROM:-0600
TZOFFSETTO:-0500
RDATE:20250309T020000
RDATE:20260308T020000
END:DAYLIGHT
END:VTIMEZONE
BEGIN:VEVENT
UID:b37a61ae-193b-4b7d-8d04-e8e19c154556
DTSTAMP:20260425T221859Z
DESCRIPTION:
DTSTART;TZID=America/Chicago:20241028T050000
DTEND;TZID=America/Chicago:20241028T050001
LOCATION:
SUMMARY:Garage Rented
END:VEVENT
END:VCALENDAR
