BEGIN:VCALENDAR
VERSION:2.0
PRODID:-//www.okeenehpg.org//NONSGML kigkonsult.se iCalcreator 2.30.10//
CALSCALE:GREGORIAN
METHOD:PUBLISH
UID:b1be146b-fcb9-4a0d-9934-372e9188e08d
X-WR-CALDESC:
X-WR-RELCALID:e1de0e84c47f1e54cdbb90201b447ed0
X-WR-TIMEZONE:America/Chicago
BEGIN:VTIMEZONE
TZID:America/Chicago
BEGIN:STANDARD
TZNAME:CST
DTSTART:20231105T020000
TZOFFSETFROM:-0500
TZOFFSETTO:-0600
RDATE:20241103T020000
RDATE:20251102T020000
END:STANDARD
BEGIN:DAYLIGHT
TZNAME:CDT
DTSTART:20240310T020000
TZOFFSETFROM:-0600
TZOFFSETTO:-0500
RDATE:20250309T020000
RDATE:20260308T020000
END:DAYLIGHT
END:VTIMEZONE
BEGIN:VEVENT
UID:0da1e9f8-1b7b-480f-914a-a955905e5cbc
DTSTAMP:20260425T222636Z
DESCRIPTION:
DTSTART;TZID=America/Chicago:20241027T050000
DTEND;TZID=America/Chicago:20241027T050001
LOCATION:
SUMMARY:Garage Rented
END:VEVENT
END:VCALENDAR
