BEGIN:VCALENDAR
VERSION:2.0
PRODID:-//www.okeenehpg.org//NONSGML kigkonsult.se iCalcreator 2.30.10//
CALSCALE:GREGORIAN
METHOD:PUBLISH
UID:df69eacf-1a29-4155-92c6-7a8c6310cd7a
X-WR-CALDESC:
X-WR-RELCALID:29f1e7c6d952ab64f9dfbd5b374ed132
X-WR-TIMEZONE:America/Chicago
BEGIN:VTIMEZONE
TZID:America/Chicago
BEGIN:STANDARD
TZNAME:CST
DTSTART:20231105T020000
TZOFFSETFROM:-0500
TZOFFSETTO:-0600
RDATE:20241103T020000
RDATE:20251102T020000
END:STANDARD
BEGIN:DAYLIGHT
TZNAME:CDT
DTSTART:20240310T020000
TZOFFSETFROM:-0600
TZOFFSETTO:-0500
RDATE:20250309T020000
RDATE:20260308T020000
END:DAYLIGHT
END:VTIMEZONE
BEGIN:VEVENT
UID:dcddcc16-7243-4cf5-9906-7fb2f8315f9f
DTSTAMP:20260425T222136Z
DESCRIPTION:
DTSTART;TZID=America/Chicago:20241023T050000
DTEND;TZID=America/Chicago:20241023T050001
LOCATION:
SUMMARY:Garage Rented
END:VEVENT
END:VCALENDAR
