BEGIN:VCALENDAR
VERSION:2.0
PRODID:-//www.okeenehpg.org//NONSGML kigkonsult.se iCalcreator 2.30.10//
CALSCALE:GREGORIAN
METHOD:PUBLISH
UID:13ca2bf3-044a-4cca-b70d-6f0dc35b13ac
X-WR-CALDESC:
X-WR-RELCALID:2486661410ce45006ce897ea40391492
X-WR-TIMEZONE:America/Chicago
BEGIN:VTIMEZONE
TZID:America/Chicago
BEGIN:STANDARD
TZNAME:CST
DTSTART:20231105T020000
TZOFFSETFROM:-0500
TZOFFSETTO:-0600
RDATE:20241103T020000
RDATE:20251102T020000
END:STANDARD
BEGIN:DAYLIGHT
TZNAME:CDT
DTSTART:20240310T020000
TZOFFSETFROM:-0600
TZOFFSETTO:-0500
RDATE:20250309T020000
RDATE:20260308T020000
END:DAYLIGHT
END:VTIMEZONE
BEGIN:VEVENT
UID:d5de8a98-2dd5-4304-b63e-4701a2d8cf00
DTSTAMP:20260425T221839Z
DESCRIPTION:
DTSTART;TZID=America/Chicago:20240914T050000
DTEND;TZID=America/Chicago:20241002T050001
LOCATION:
SUMMARY:okeene germanfest
END:VEVENT
END:VCALENDAR
