BEGIN:VCALENDAR
VERSION:2.0
PRODID:-//www.okeenehpg.org//NONSGML kigkonsult.se iCalcreator 2.30.10//
CALSCALE:GREGORIAN
METHOD:PUBLISH
UID:d0ec4f16-f59e-4dfd-8808-161abf816277
X-WR-CALDESC:
X-WR-RELCALID:a26514a30b49a6e5b719939ad91c5365
X-WR-TIMEZONE:America/Chicago
BEGIN:VTIMEZONE
TZID:America/Chicago
BEGIN:STANDARD
TZNAME:CST
DTSTART:20231105T020000
TZOFFSETFROM:-0500
TZOFFSETTO:-0600
RDATE:20241103T020000
RDATE:20251102T020000
END:STANDARD
BEGIN:DAYLIGHT
TZNAME:CDT
DTSTART:20240310T020000
TZOFFSETFROM:-0600
TZOFFSETTO:-0500
RDATE:20250309T020000
END:DAYLIGHT
END:VTIMEZONE
BEGIN:VEVENT
UID:88fa373d-82ad-4ace-850b-f3bad0340e13
DTSTAMP:20260426T021436Z
DESCRIPTION:
DTSTART;TZID=America/Chicago:20240825T140000
DTEND;TZID=America/Chicago:20240825T150000
LOCATION:
SUMMARY:Garage Rented
END:VEVENT
END:VCALENDAR
