BEGIN:VCALENDAR
VERSION:2.0
PRODID:-//www.okeenehpg.org//NONSGML kigkonsult.se iCalcreator 2.30.10//
CALSCALE:GREGORIAN
METHOD:PUBLISH
UID:abafe9d4-94ac-4828-abd4-e2da86875ba3
X-WR-CALDESC:
X-WR-RELCALID:de69113dd476f799b5203680ba82d581
X-WR-TIMEZONE:America/Chicago
BEGIN:VTIMEZONE
TZID:America/Chicago
BEGIN:STANDARD
TZNAME:CST
DTSTART:20231105T020000
TZOFFSETFROM:-0500
TZOFFSETTO:-0600
RDATE:20241103T020000
RDATE:20251102T020000
END:STANDARD
BEGIN:DAYLIGHT
TZNAME:CDT
DTSTART:20240310T020000
TZOFFSETFROM:-0600
TZOFFSETTO:-0500
RDATE:20250309T020000
END:DAYLIGHT
END:VTIMEZONE
BEGIN:VEVENT
UID:9a3ae676-af98-4361-9ed8-f68325b88ddf
DTSTAMP:20260426T022122Z
DESCRIPTION:
DTSTART;TZID=America/Chicago:20240817T050000
DTEND;TZID=America/Chicago:20240817T050001
LOCATION:
SUMMARY:Building Rented
END:VEVENT
END:VCALENDAR
