BEGIN:VCALENDAR
VERSION:2.0
PRODID:-//www.okeenehpg.org//NONSGML kigkonsult.se iCalcreator 2.30.10//
CALSCALE:GREGORIAN
METHOD:PUBLISH
UID:97f2a8b7-07dc-44e7-aa9f-5f543dbf3b72
X-WR-CALDESC:
X-WR-RELCALID:5978cd98265d27db1b1e219fe3f6aa1c
X-WR-TIMEZONE:America/Chicago
BEGIN:VTIMEZONE
TZID:America/Chicago
BEGIN:STANDARD
TZNAME:CST
DTSTART:20231105T020000
TZOFFSETFROM:-0500
TZOFFSETTO:-0600
RDATE:20241103T020000
RDATE:20251102T020000
END:STANDARD
BEGIN:DAYLIGHT
TZNAME:CDT
DTSTART:20240310T020000
TZOFFSETFROM:-0600
TZOFFSETTO:-0500
RDATE:20250309T020000
END:DAYLIGHT
END:VTIMEZONE
BEGIN:VEVENT
UID:7f111e77-218c-4bf8-b71c-dbba9ddb3e75
DTSTAMP:20260426T020059Z
DESCRIPTION:
DTSTART;TZID=America/Chicago:20240813T050000
DTEND;TZID=America/Chicago:20240813T050001
LOCATION:
SUMMARY:Building Rented
END:VEVENT
END:VCALENDAR
