BEGIN:VCALENDAR
VERSION:2.0
PRODID:-//www.okeenehpg.org//NONSGML kigkonsult.se iCalcreator 2.30.10//
CALSCALE:GREGORIAN
METHOD:PUBLISH
UID:8585e235-9f52-4f4f-8fae-0938636b20d2
X-WR-CALDESC:
X-WR-RELCALID:f748dd99b9c72d604b3d10572d4f68e2
X-WR-TIMEZONE:America/Chicago
BEGIN:VTIMEZONE
TZID:America/Chicago
BEGIN:STANDARD
TZNAME:CST
DTSTART:20231105T020000
TZOFFSETFROM:-0500
TZOFFSETTO:-0600
RDATE:20241103T020000
RDATE:20251102T020000
END:STANDARD
BEGIN:DAYLIGHT
TZNAME:CDT
DTSTART:20240310T020000
TZOFFSETFROM:-0600
TZOFFSETTO:-0500
RDATE:20250309T020000
END:DAYLIGHT
END:VTIMEZONE
BEGIN:VEVENT
UID:57733347-96f8-47e2-98f8-e58b251b8031
DTSTAMP:20260426T021032Z
DESCRIPTION:
DTSTART;TZID=America/Chicago:20240810T000000
DTEND;TZID=America/Chicago:20240810T235900
LOCATION:
SUMMARY:RESERVED FOR OKEENE ALUMNI
END:VEVENT
END:VCALENDAR
